BEGIN:VCALENDAR
VERSION:2.0
PRODID:-//USiena Alumni - ECPv6.15.12.2//NONSGML v1.0//EN
CALSCALE:GREGORIAN
METHOD:PUBLISH
X-WR-CALNAME:USiena Alumni
X-ORIGINAL-URL:https://www.alumni.unisi.it
X-WR-CALDESC:Eventi per USiena Alumni
REFRESH-INTERVAL;VALUE=DURATION:PT1H
X-Robots-Tag:noindex
X-PUBLISHED-TTL:PT1H
BEGIN:VTIMEZONE
TZID:Europe/Rome
BEGIN:DAYLIGHT
TZOFFSETFROM:+0100
TZOFFSETTO:+0200
TZNAME:CEST
DTSTART:20150329T010000
END:DAYLIGHT
BEGIN:STANDARD
TZOFFSETFROM:+0200
TZOFFSETTO:+0100
TZNAME:CET
DTSTART:20151025T010000
END:STANDARD
BEGIN:DAYLIGHT
TZOFFSETFROM:+0100
TZOFFSETTO:+0200
TZNAME:CEST
DTSTART:20160327T010000
END:DAYLIGHT
BEGIN:STANDARD
TZOFFSETFROM:+0200
TZOFFSETTO:+0100
TZNAME:CET
DTSTART:20161030T010000
END:STANDARD
BEGIN:DAYLIGHT
TZOFFSETFROM:+0100
TZOFFSETTO:+0200
TZNAME:CEST
DTSTART:20170326T010000
END:DAYLIGHT
BEGIN:STANDARD
TZOFFSETFROM:+0200
TZOFFSETTO:+0100
TZNAME:CET
DTSTART:20171029T010000
END:STANDARD
END:VTIMEZONE
BEGIN:VEVENT
DTSTART;TZID=Europe/Rome:20160429T140000
DTEND;TZID=Europe/Rome:20160429T160000
DTSTAMP:20260423T123039
CREATED:20160427T065540Z
LAST-MODIFIED:20160427T065847Z
UID:695-1461938400-1461945600@www.alumni.unisi.it
SUMMARY:Grow with US - Flying abroad
DESCRIPTION:  \n6 Alumni con percorsi eccellenti da ogni parte del mondo saranno connessi via webex per raccontare le loro esperienze e fornire consigli per chi vuole intraprendere un percorso professionale internazionale. \nInterventi via webex dalle ore 14\,00 \n\n\n\nNome/Cognome\nAzienda\nLocalità\nArgomento\n\n\nAlessandro Ortolani\nJ&J\nZug (CH)\nLavorare in Svizzera\, nella funzione commerciale \, per un’azienda di Beni di Largo Consumo \nhttps://ch.linkedin.com/in/alessandro-ortolani-57193814\n\n\nTito Franchetti\nEuroCross Assistance\nL’Aia \n(NL)\nLavorare in Olanda\, nella funzione operativa\, per un’azienda assicurativa \nhttps://nl.linkedin.com/in/tito-franchetti-a145397\n\n\nChristian Visdomini\nChange Group Americas\nNew York (US)\nLavorare in USA\, come CEO\, per un’azienda di consulenza e come professore\, per un’Università Americana \nhttps://www.linkedin.com/in/christian-visdomini-180a4976\n\n\nDaniela Vecchio\nHarvard Medical Center\nBoston (US)\nLavorare in USA\, nel campo bio-medico\, per un’istituzione di ricerca \nhttps://www.linkedin.com/in/daniela-vecchio-1277863b\n\n\nLeonardo Ermini\nSick Kids\nToronto (CA)\nLavorare in Canada\, nella ricerca in campo medico\, per un ente ospedaliero \nhttps://ca.linkedin.com/in/leonardo-ermini-50257226/en\n\n\nLuigi Palumbo\nHitachi\nHong \nKong (CN)\nLavorare in Asia\, nella funzione commerciale\, per un’azienda IT \n  \nhttps://www.linkedin.com/in/palumboluigi\n\n\n\n 
URL:https://www.alumni.unisi.it/event/grow-with-us-flying-abroad/
CATEGORIES:Grow with US
ORGANIZER;CN="USiena Alumni":MAILTO:info@alumni.unisi.it
END:VEVENT
END:VCALENDAR