BEGIN:VCALENDAR
VERSION:2.0
PRODID:-//USiena Alumni - ECPv6.15.12.2//NONSGML v1.0//EN
CALSCALE:GREGORIAN
METHOD:PUBLISH
X-ORIGINAL-URL:https://www.alumni.unisi.it
X-WR-CALDESC:Eventi per USiena Alumni
REFRESH-INTERVAL;VALUE=DURATION:PT1H
X-Robots-Tag:noindex
X-PUBLISHED-TTL:PT1H
BEGIN:VTIMEZONE
TZID:Europe/Rome
BEGIN:DAYLIGHT
TZOFFSETFROM:+0100
TZOFFSETTO:+0200
TZNAME:CEST
DTSTART:20200329T010000
END:DAYLIGHT
BEGIN:STANDARD
TZOFFSETFROM:+0200
TZOFFSETTO:+0100
TZNAME:CET
DTSTART:20201025T010000
END:STANDARD
BEGIN:DAYLIGHT
TZOFFSETFROM:+0100
TZOFFSETTO:+0200
TZNAME:CEST
DTSTART:20210328T010000
END:DAYLIGHT
BEGIN:STANDARD
TZOFFSETFROM:+0200
TZOFFSETTO:+0100
TZNAME:CET
DTSTART:20211031T010000
END:STANDARD
BEGIN:DAYLIGHT
TZOFFSETFROM:+0100
TZOFFSETTO:+0200
TZNAME:CEST
DTSTART:20220327T010000
END:DAYLIGHT
BEGIN:STANDARD
TZOFFSETFROM:+0200
TZOFFSETTO:+0100
TZNAME:CET
DTSTART:20221030T010000
END:STANDARD
END:VTIMEZONE
BEGIN:VEVENT
DTSTART;TZID=Europe/Rome:20210625T180000
DTEND;TZID=Europe/Rome:20210625T193000
DTSTAMP:20260424T145640
CREATED:20210528T074712Z
LAST-MODIFIED:20210919T152745Z
UID:4443-1624644000-1624649400@www.alumni.unisi.it
SUMMARY:Assemblea associati 25 giugno 2021
DESCRIPTION:Si porta a conoscenza di tutti gli associati che l’Assemblea dell’Associazione USiena Alumni\, si terrà in prima convocazione il giorno 25 giugno alle ore 17\,00 \, ed in seconda convocazione venerdì 25 giugno 2021 alle ore 18\,00 in modalità online ed in presenza a numero chiuso presso il Santa Chiara Lab\, per discutere e deliberare sul seguente \nORDINE DEL GIORNO \n– Comunicazioni del Presidente e Programma 2021/2022 \n– Discussione e approvazione Conto Consuntivo 2020 \n– Varie ed Eventuali \nIl Presidente \nGiulio Ancilli \nRichiamata la normativa emergenziale legata alla pandemia del virus Covid-19 ed al fine di evitare gli assembramenti durante le sedute di organi collegiali delle Associazioni private e richiamato in particolare l’art. 73 c.4 del D.L. n. 18/2020 che consente\, in assenza di norme regolamentari e statutarie\, di svolgere le sedute completamente o in parte in videoconferenza\, l’Assemblea è convocata attraverso l’utilizzo della piattaforma Meet. \nPer facilitare le operazioni di piattaforma di partecipazione e di votazione è necessaria la prenotazione su eventbrite
URL:https://www.alumni.unisi.it/event/4443/
CATEGORIES:Join US,Play with US
ATTACH;FMTTYPE=image/jpeg:https://www.alumni.unisi.it/wp-content/uploads/ASSEMBLEA-ASSOCIATI-x-comunicazione_Giugno2021.jpg
END:VEVENT
END:VCALENDAR