BEGIN:VCALENDAR
VERSION:2.0
PRODID:-//USiena Alumni - ECPv6.15.12.2//NONSGML v1.0//EN
CALSCALE:GREGORIAN
METHOD:PUBLISH
X-WR-CALNAME:USiena Alumni
X-ORIGINAL-URL:https://www.alumni.unisi.it
X-WR-CALDESC:Eventi per USiena Alumni
REFRESH-INTERVAL;VALUE=DURATION:PT1H
X-Robots-Tag:noindex
X-PUBLISHED-TTL:PT1H
BEGIN:VTIMEZONE
TZID:Europe/Rome
BEGIN:DAYLIGHT
TZOFFSETFROM:+0100
TZOFFSETTO:+0200
TZNAME:CEST
DTSTART:20140330T010000
END:DAYLIGHT
BEGIN:STANDARD
TZOFFSETFROM:+0200
TZOFFSETTO:+0100
TZNAME:CET
DTSTART:20141026T010000
END:STANDARD
BEGIN:DAYLIGHT
TZOFFSETFROM:+0100
TZOFFSETTO:+0200
TZNAME:CEST
DTSTART:20150329T010000
END:DAYLIGHT
BEGIN:STANDARD
TZOFFSETFROM:+0200
TZOFFSETTO:+0100
TZNAME:CET
DTSTART:20151025T010000
END:STANDARD
BEGIN:DAYLIGHT
TZOFFSETFROM:+0100
TZOFFSETTO:+0200
TZNAME:CEST
DTSTART:20160327T010000
END:DAYLIGHT
BEGIN:STANDARD
TZOFFSETFROM:+0200
TZOFFSETTO:+0100
TZNAME:CET
DTSTART:20161030T010000
END:STANDARD
BEGIN:DAYLIGHT
TZOFFSETFROM:+0100
TZOFFSETTO:+0200
TZNAME:CEST
DTSTART:20170326T010000
END:DAYLIGHT
BEGIN:STANDARD
TZOFFSETFROM:+0200
TZOFFSETTO:+0100
TZNAME:CET
DTSTART:20171029T010000
END:STANDARD
BEGIN:DAYLIGHT
TZOFFSETFROM:+0100
TZOFFSETTO:+0200
TZNAME:CEST
DTSTART:20180325T010000
END:DAYLIGHT
BEGIN:STANDARD
TZOFFSETFROM:+0200
TZOFFSETTO:+0100
TZNAME:CET
DTSTART:20181028T010000
END:STANDARD
END:VTIMEZONE
BEGIN:VEVENT
DTSTART;TZID=Europe/Rome:20171209T080000
DTEND;TZID=Europe/Rome:20171210T170000
DTSTAMP:20260424T090227
CREATED:20171123T214551Z
LAST-MODIFIED:20171207T130914Z
UID:2285-1512806400-1512925200@www.alumni.unisi.it
SUMMARY:Play with US - Trail delle Mura - 10 Dicembre 2017
DESCRIPTION:Il Trail delle Mura\, è una gara podistica alla sua prima edizione\, che si svolgerà a Siena il 10 dicembre 2017 organizzata dall’ASD Vivi Siena con la collaborazione\, partnership e patrocinio del Comune di Siena\, le Università di Siena\, Regione Toscana\, utilizzo marchio del Consiglio Regionale della Toscana\, di Ferpi(Federazione Relazioni Pubbliche Italiana)Toscana\, CCIAA di Siena\, Soprintendenza di Siena\, Ass. Le Mura\, AS La Diana\, Asp di Siena\, del Maratoneta Sport\,  e altri soggetti privati. \nIl percorso della gara sarà un vero e proprio tuffo nella storia\, che si snoderà lungo il tracciato delle mura cittadine da quelle dell’anno mille fino alle più recenti cinquecentesche\, attraversando valli\, risalendo scalinate e dislivelli che renderanno la corsa un vero Urban Trail\, senza il bisogno di ricorrere ad ostacoli artificiali. \nPartenza ed arrivo\, saranno collocati nel vero cuore pulsante della città\, in Piazza del Campo. \nAlla gara della domenica con i due percorsi di 10 e 17 km  e la passeggiata ludico motoria\, viene aggiunto anche un percorso di passeggiata culturale al sabato che permetterà agli interessati di godere a pieno della città e delle sue offerte in base ognuno alle proprie capacità e disponibilità fisiche e temporali. La passeggiata culturale in particolare verrà svolta con l’accompagnamento di guide specializzate e approfondimenti con professionisti di settore che si soffermeranno in punti strategici del percorso \nPasseggiate della domenica mattina : quota di iscrizione 5.00€. \nPer iscriversi basta rivolgersi alla Federagit Siena – 3348418736 – federagitsiena@libero.it. \nInoltre saranno disponibili pacchetti degustazione su visitasiena.com. \nLa conclusione delle passeggiate avrà luogo in Piazza San Francesco dove sarà presente l’Expo. \nGare agonistiche della domenica: \nGara long distance (17 KM): 01/09 – 30/09 15.00€\, 1/10 – 15/11 20.00€\, 16/11 – 06/12 25.00€. \nGara short distance (10 KM): 01/09 – 30/09 10.00€\, 1/10 – 15/11 12.00€\, 16/11 – 06/12 15.00€. \n  \nPer gli studenti è prevista la tariffa agevolata di 10€ per ogni gara agonistica. \nPer le iscrizioni tramite la piattaforma online MYSDAM cliccando direttamente al link ⟹ https://www.endu.net/events/trail-delle-mura/entry;\npresso il negozio Il Maratoneta Sport in Via Camollia 201\, Siena\, muniti di certificato medico sportivo agonistico e di documento d’identità. \nPer quanto riguarda gli orari\, l’Expo sarà dalle 10.00 alle 19.30\, mentre le gare agonistiche partiranno alle 9.00. La passeggiata della domenica partirà invece alle 10.00.
URL:https://www.alumni.unisi.it/event/trail-delle-mura-9-e-10-dicembre-2017/
LOCATION:piazza del campo siena\, il campo\, Siena
CATEGORIES:Play with US
ATTACH;FMTTYPE=image/jpeg:https://www.alumni.unisi.it/wp-content/uploads/trail-delle-mure-.9-10-dicembre.jpg
END:VEVENT
BEGIN:VEVENT
DTSTART;TZID=Europe/Rome:20170929T210000
DTEND;TZID=Europe/Rome:20170929T233000
DTSTAMP:20260424T090227
CREATED:20170910T191700Z
LAST-MODIFIED:20170911T072923Z
UID:2128-1506718800-1506727800@www.alumni.unisi.it
SUMMARY:Bright - Baustelle Concerto finale
DESCRIPTION: 
URL:https://www.alumni.unisi.it/event/bright-baustelle-concerto-finale/
CATEGORIES:Play with US
ATTACH;FMTTYPE=image/jpeg:https://www.alumni.unisi.it/wp-content/uploads/concerto_baustelle.jpg
END:VEVENT
BEGIN:VEVENT
DTSTART;TZID=Europe/Rome:20170817T160000
DTEND;TZID=Europe/Rome:20170817T200000
DTSTAMP:20260424T090227
CREATED:20170817T133916Z
LAST-MODIFIED:20170910T191211Z
UID:2105-1502985600-1503000000@www.alumni.unisi.it
SUMMARY:Bright - La notte dei Ricercatori in Toscana
DESCRIPTION:Il 29 settembre torna l’appuntamento con la Notte dei ricercatori\, iniziativa promossa dalla Commissione Europea per diffondere la cultura scientifica e la conoscenza delle professioni della ricerca. \n \nIn Toscana “Bright 2017” si celebra con il sostegno della Regione\, il coinvolgimento delle Università di Pisa\, di Firenze\, di Siena\, di Siena-Stranieri\, dei centri di ricerca e di scuole superiori e propone un ricco cartellone di eventi\, iniziative e spettacoli che si svolgeranno dal pomeriggio fino a tarda notte a Arezzo\, Calci\, Firenze\, Grosseto\, Lucca\, Pisa\, Pontedera\, Portoferraio\, Prato\, Siena e Viareggio. \n\n\n\n\n\nBRIGHT 2017 – La Notte dei Ricercatori in Toscana\n\n\n\n\n\n\n\n\n\n\n\n\n66 EVENTI A INGRESSO GRATUITO – PER ALCUNI OCCORRE LA PRENOTAZIONE\n\n\n\n\n\nNuove tecnologie\, patrimonio culturale\, sviluppo sostenibile\, salute e benessere\, natura\, queste le tematiche dell’edizione 2017 di Bright a Siena \nDibattiti\, mostre\, iniziative e concerti a cui parteciperanno docenti\, studenti e ricercatori animeranno le vie del centro storico dal pomeriggio a tarda notte e numerose attività coinvolgeranno bambini\, studenti\, adulti e famiglie attraverso le formule del gioco\, dell’intrattenimento e della divulgazione scientifica. \n  \nIl PROGRAMMA COMPLETO è consultabile sul sito BRIGHT 2017 – La Notte dei Ricercatori in Toscana
URL:https://www.alumni.unisi.it/event/bright-la-notte-dei-ricercatori-in-toscana/
LOCATION:Siena\, Piazza San Francesco\, 53100
CATEGORIES:Play with US
ATTACH;FMTTYPE=image/jpeg:https://www.alumni.unisi.it/wp-content/uploads/Save-the-date_Bright_NotteRicercatoriSiena2017_30052017.jpg
END:VEVENT
BEGIN:VEVENT
DTSTART;VALUE=DATE:20170513
DTEND;VALUE=DATE:20170516
DTSTAMP:20260424T090227
CREATED:20160719T214421Z
LAST-MODIFIED:20170430T192621Z
UID:1460-1494633600-1494892799@www.alumni.unisi.it
SUMMARY:Weekend di Golf e non solo: 12-14 Maggio 2017
DESCRIPTION:Aperto a tutti : golfisti e per chi si avvicina al golf per la prima volta\nWeekend all’insegna del networking\, delle connessioni nel meraviglioso centro “Il Pelagone” \n  \n \n  \nL’imponente e confortevole struttura si trova nella provincia di Grosseto\, nel sud della Toscana\, di fronte all’isola d’Elba. Nel mezzo di un pittoresco paesaggio collinare con pini\, cipressi e oliveti vi aspettano piacevoli vacanze per corpo e anima nel Mediterraneo. \n  \nSabato 13 maggio: mini gara formula giocatore + accompagnatore (colpi lunghi del giocatore\, putt dell’accompagnatore). Cena al ristorante Le Cerretelle\, presso il Residence Il Pelagone. \nDomenica 14 maggio i giocatori tesserati FIG potranno partecipare alla gara del circolo (green fee + iscrizione gara: costo riservato scontato di € 70). \nDove: Cordial Hotel & Golf Resort Il Pelagone (Gavorrano – Grosseto). \nContatto: Maria Luisa Valacchi – Circolo Golf Club Toscana. \n  \nCosto: Camera Doppia –  € 55 x persona x notte (pernottamento + prima colazione). \nSupplemento doppia uso singola: € 25. \nCena Sabato: € 30. \nPrenotazioni entro: 15 aprile 2017. \n  \nPer informazionie e prenotazioni. usiena.alumni@unisi.it \nIl resort è ideale per coppie\, single\, famiglie e appassionati di golf. Le ampie e accoglienti suite con balcone o terrazza\, il parco di circa 100 ettari\, i piatti forti della cucina e l’offerta di benessere e sport creano l’ambiente ideale per chi cerca una pausa nella terra del “Dolce far niente”. \n  \n\n\nTra oliveti e alti cipressi il britannico Keith Preston ha collocato uno dei più appassionanti campi da golf d’Italia. Tra le colline verdi della Maremma toscana\, questo circuito colpisce per i panorami mozzafiato. I molti specchi d’acqua allietano continuamente lo sguardo e costituiscono interessanti ostacoli naturali. I green cangianti richiedono abilità\, capacità di adattamento e concentrazione.\nOgnuna delle 18 buche ha il suo fascino. Il campo è in parte piacevolmente collinare e offre la possibilità di effettuare swing spettacolari. Particolarmente degna di nota è la buca 18 da dove si viene premiati da un panorama indimenticabile sull’isola d’Elba e il mar Tirreno. \n\n\n\n\nIl Championship Course è il luogo in cui si svolgono molti tornei internazionali per professionisti e dilettanti.\nL’impegnativo impianto da golf offre una scuola di golf\, un ampio driving range\, due green per la pratica del putting\, un green per il pitching e aree per esercitare il chipping conformi agli standard internazionali\, tutte condizioni ottimali per un’esperienza golfistica di prima classe. Vacanze all’insegna del golf in Toscana\, un consiglio segreto per chi vuole praticare il proprio sport preferito e combinarlo con una vacanza culturale\, culinaria e balneare!
URL:https://www.alumni.unisi.it/event/weekend-di-golf-e-non-solo-12-14-maggio-2017/
LOCATION:Il Pelagone\, Gavorrano\, Italia
CATEGORIES:Play with US
ATTACH;FMTTYPE=image/jpeg:https://www.alumni.unisi.it/wp-content/uploads/1209150_57_b.jpg
ORGANIZER;CN="USiena Alumni":MAILTO:info@alumni.unisi.it
END:VEVENT
BEGIN:VEVENT
DTSTART;TZID=Europe/Rome:20170409T090000
DTEND;TZID=Europe/Rome:20170409T110000
DTSTAMP:20260424T090227
CREATED:20160401T084216Z
LAST-MODIFIED:20170321T124315Z
UID:599-1491728400-1491735600@www.alumni.unisi.it
SUMMARY:Vivicittà - Corri con noi: 9 Aprile 2017
DESCRIPTION:USiena Alumni\, Università di Siena\, CUS Siena\, CRAL UNISI ti invitano alla corsa più bella dell’anno! \nCORRIAMO TUTTI INSIEME COME UNIVERSITA’ DI SIENA \n \nTorna l’appuntamento annuale per tutti noi: Studenti\,  Alumni\, Comunità Universitaria per correre insieme \nIscriviti entro il 5 Aprile cliccando  qui \nQuota di Partecipazione UISP : 5 Euro (con pacco gara) \nInoltre\, per tutti gli iscritti Università di Siena in omaggio la maglietta USiena ! scegli la taglia sul modulo di iscrizione \nAppuntamento alle ore 9\,00 presso la Fortezza (Stand CUS Siena). Tre i percorsi disponibili: \n\nMini Passeggiata (1-2 Km)\nPasseggiata Ludico Motoria (6 km)\nCorsa Competitiva (12 Km) – obbligatorio il certificato medico per la pratica agonistica o l’iscrizione ad una società sportiva (dichiarazione del Presidente)\n\nE alle 13\,00  pranzo presso la Contrada della Selva (piazzetta della Selva\, 4) con visita guidata al Museo della Contrada (20 Eur x Adulti/15 Euro x Studenti/ 10 Euro Bambini 6-12 anni/ Gratis Bambini 0-5 anni) \nChe aspetti? Unisciti a noi! \nIscrizione entro il 5 Aprile\, cliccando  qui \nPer il pagamento delle quote riceverete istruzioni via email successivamene all’iscrizione. In ogni caso potrà essere effettuato presso : \n-Rettorato – Divisione Relazioni Internazionali – Pasquale Colella – via  S.Bandini\,   telefono 0577-235457 \n-Il pomeriggio del 8 Aprile dalle 16\,00 alle 18\, 00 presso il Santa Chiara Lab \n-via bonifico: Associazione USiena Alumni  – Banca:ChiantiBanca ; IBAN: IT 90 W 03599 01899 086738514748 \nDettaglio percorsi \nPERCORSO VIVICITTA’ 2017 KM. 12.= \nPartenza Fortezza Medicea Piazza della Libertà\, Viale Maccari\, Piazza Gramsci\, Via Malavolti\, Piazza Matteotti\, Via del Paradiso\, Via della Sapienza\, Via delle Terme\, Via Diacceto\, Via dei Pellegrini\, Piazza San Giovanni\, Via dei Fusari\, Piazza del Duomo\, Via Stalloreggi\, Pian dei Mantellini\, Via Tito Sarrocchi\, Via S. Pietro\, Casato di Sopra\, Casato di Sotto\, Piazza Il Campo\,  Via del Porrione\,  Via San Martino\, Via San Girolamo\, Via Pantaneto\, Via Follonica\, Via Sallustio Bandini\, Via del Giglio\, Via del Refe Nero\, Via dei Rossi\, Via dell’Abbadia\, Via della Stufa Secca\, Via Garibaldi\, Via di Camollia\, Via Campansi\, Piazza  Chigi Saracini\, Via Malta\, Via di Camollia\, Via dei Gazzani\, La Lizza\, Piazza Gramsci\, Via Malavolti\, Piazza Matteotti\, Via del Paradiso\, Via della Sapienza\, Via delle Terme\, Via Diacceto\, Via dei Pellegrini\, Piazza San Giovanni\, Via dei Fusari\, Piazza del Duomo\, Via Stalloreggi\, Pian dei Mantellini\, Via Tito Sarrocchi\, Via S. Pietro\, Casato di Sopra\, Casato di Sotto\, Piazza Il Campo\, Via del Porrione\, Via S. Martino\, Via San Girolamo\, Via Pantaneto\, Via Follonica\, Via Sallustio Bandini\, Via del Giglio\, Via del Refe Nero\, Via dei Rossi\, Via dell’Abbadia\, Via della Stufa Secca\, Via Garibaldi\, Via di Camollia\, Via Campansi\, Piazzetta Chigi Saracini\, Via Malta\, Via di Camollia\, Via dei Gazzani\,  La Lizza\, Viale Maccari\, Fortezza Medicea Piazza della Libertà. \nPERCORSO VIVICITTA’ PASSEGGIATA LUDICO MOTORIA  KM. 6. \nPartenza Fortezza Medicea prima dei portici\, Viale Maccari\, Piazza Gramsci\, Via Malavolti\, Piazza Matteotti\, Via del Paradiso\, Via della Sapienza\, Via delle Terme\, Via Diacceto\, Via dei Pellegrini\, Piazza San Giovanni\, Via dei Fusari\, Piazza del Duomo\, Via Stalloreggi\, Pian dei Mantellini\, Via Tito Sarrocchi\, Via S. Pietro\, Casato di Sopra\, Casato di Sotto\, Piazza Il Campo\,  Via del Porrione\,  Via San Martino\, Via San Girolamo\, Via Pantaneto\, Via Follonica\, Via Sallustio Bandini\, Via del Giglio\, Via del Refe Nero\, Via dei Rossi\, Via dell’Abbadia\, Via della Stufa Secca\, Via Garibaldi\, Via di Camollia\, Via Campansi\, Piazzatta Chigi Saracini\, Via Malta\, Via di Camollia\, Via dei Gazzani\, La Lizza\, Piazza Gramsci\, Via Maccari\, Fortezza Medicea Arrivo. \nPERCORSO VIVICITTA’ MINI PASSEGGIATA DI KM. 1 o 2 \nUn giro o due giri all’interno del Bastione della Fortezza.
URL:https://www.alumni.unisi.it/event/vivicitta/
LOCATION:Fortezza Medicea\, Fortezza Medicea\, Siena\, Italia
CATEGORIES:Play with US
ATTACH;FMTTYPE=image/jpeg:https://www.alumni.unisi.it/wp-content/uploads/joinus_2017_fb.jpg
ORGANIZER;CN="USiena Alumni":MAILTO:info@alumni.unisi.it
END:VEVENT
BEGIN:VEVENT
DTSTART;TZID=Europe/Rome:20170408T160000
DTEND;TZID=Europe/Rome:20170408T173000
DTSTAMP:20260424T090227
CREATED:20170314T210721Z
LAST-MODIFIED:20170317T190113Z
UID:1734-1491667200-1491672600@www.alumni.unisi.it
SUMMARY:Yoga e Meditazione: 8 Aprile 2017
DESCRIPTION:Una sessione guidata da Emanuela Percoco\, Usiena Alumna\, per: \n\nConoscere il mondo dello yoga attraverso la pratica\nPrendere consapevolezza del corpo e della mente attraverso il respiro\nImparare a calmare il corpo e la mente\nBreve introduzione sullo Yoga\nPratichiamo insieme Pranayama Asana e Meditazione\nCondivisione finale\n\nIscrizioni entro il 5 Aprile cliccando  qui \nPortare tappetino cuscino e coperta \nOfferta libera
URL:https://www.alumni.unisi.it/event/yoga-e-meditazione-8-aprile/
LOCATION:Santa Chiara Lab\, Via di Valdimontone 1\, Siena\, Italia
CATEGORIES:Play with US
ATTACH;FMTTYPE=image/jpeg:https://www.alumni.unisi.it/wp-content/uploads/yoga.jpg
END:VEVENT
BEGIN:VEVENT
DTSTART;TZID=Europe/Rome:20161001T170000
DTEND;TZID=Europe/Rome:20161001T183000
DTSTAMP:20260424T090228
CREATED:20160825T114818Z
LAST-MODIFIED:20160923T182903Z
UID:1477-1475341200-1475346600@www.alumni.unisi.it
SUMMARY:Visita guidata Fonte delle Monache: 1 Ottobre
DESCRIPTION:Appuntamento il 1 Ottobre alle ore 17\,00 in Via delle Sperandie\, 47 per una visita guidata alla Fonte delle Monache e al bottino organizzata con il supporto dell’Associazione La Diana e dell’Università di Siena. \n \nPosti limitati – per prenotare cliccare qui https://goo.gl/forms/5SkyLUDeZaN8Jx823  \n  \nQualche informazione…. \nNon è certa la data di costruzione di questa fonte\, ma si hanno notizie di un restauro ad essa fatto il 30 giugno 1330.\nFu chiamata così a causa della vicinanza con il monastero femminile delle suore benedettine di Sant’Agnese\, dette anche Sperandie\, che successivamente presero il nome di Trafisse. \nAttualmente vi si accede dall’omomima Via delle Sperandie. \nEra dotata di un bottino\, o meglio di un trabocco\, che raggiungeva il torrente Tressa appena fuori della città. La fonte è rappresentata da una ampia nicchia da dove\, attraverso un passaggio oggi protetto da una grata\, si accede ad una grossa vasca sotterranea.\nNella parete di fondo della nicchia si può notare una lapide che ricorda la ripulitura del bottino che alimenta la fonte\, avvenuta il “…15 settembre 1724\, al tempo (della camarlenga monaca) Domina Maria Piccolomini”. \n 
URL:https://www.alumni.unisi.it/event/visita-guidata-fonte-e-bottini-sperandie/
CATEGORIES:Play with US
ATTACH;FMTTYPE=image/jpeg:https://www.alumni.unisi.it/wp-content/uploads/f_sperandie1_t.jpg
END:VEVENT
BEGIN:VEVENT
DTSTART;VALUE=DATE:20160930
DTEND;VALUE=DATE:20161001
DTSTAMP:20260424T090228
CREATED:20160719T212434Z
LAST-MODIFIED:20160719T212434Z
UID:1456-1475193600-1475279999@www.alumni.unisi.it
SUMMARY:La Notte dei Ricercatori - 30 Settembre 2016
DESCRIPTION:Il 30 Settembre ci vediamo tutti a Siena per LA NOTTE DEI RICERCATORI \nOltre 50 eventi in città sui temi della salute\, innovazione\, sostenibilità\, creatività\, arte e cultura\, millennials. Molte anche le attività dedicate ai più piccoli. \nConcerto finale in Piazza del Campo.
URL:https://www.alumni.unisi.it/event/la-notte-dei-ricercatori-30-settembre-2016/
LOCATION:Fortezza Medicea\, Fortezza Medicea\, Siena\, Italia
CATEGORIES:Play with US
ATTACH;FMTTYPE=image/jpeg:https://www.alumni.unisi.it/wp-content/uploads/Bright_Cartolina_1.jpg
END:VEVENT
BEGIN:VEVENT
DTSTART;TZID=Europe/Rome:20160916T180000
DTEND;TZID=Europe/Rome:20160918T180000
DTSTAMP:20260424T090228
CREATED:20160719T211305Z
LAST-MODIFIED:20160825T115531Z
UID:1454-1474048800-1474221600@www.alumni.unisi.it
SUMMARY:Weekend di Vela e di Mare: 17-18 Settembre 2016
DESCRIPTION:Unisciti agli Alumni per veleggiare nell’Arcipelago Toscano : \nun fine settimana di vela\, di mare e di Network verso il futuro! \n17-18 Settembre 2016 \n \nPosti limitati ! Prenotati entro il 20 Agosto \nProgramma \nImbarco il venerdi sera a Cala Galera. Partenza la mattina successiva per navigare alla volta delle bellissime isole del Giglio e di Giannutri\, per trascorrere due rilassanti giornate di sole e di mare nelle cale della Caldana\, delle Cannelle e del Campese all’isola del Giglio\, senza dimenticare il caratteristico porto. Ci trasferiremo poi a Giannutri\, dove visiteremo la cala dello Spalmatoio\, la Maestra e la Brigantina. \nLo sbarco è previsto la domenica sera. \nE’ prevista sia attività didattica che attività ludica. \nImbarco: Marina di Cala Galera\, venerdì 16 Settembre dalle ore 18\,00 \nSbarco : Marina di Cala Galera\, domenica 18 Settembre ore 18\,00 (circa) \nQuota di partecipazione: 150 Euro  a persona + quota cambusa\, carburante\, spese portuali. \nLa quota va versata via bonifico bancario ad Altura scuola di vela e di mare (dettagli via email). \nImbarcazioni : Beneteau Ciclades 43.4 (2007-2008) \n4 cabine doppie/2 bagni \nPer prenotazioni : \nusiena.alumni@unisi.it  \n 
URL:https://www.alumni.unisi.it/event/weekend-di-vela-e-di-mare-17-18-settembre-2016/
CATEGORIES:Play with US
ATTACH;FMTTYPE=image/jpeg:https://www.alumni.unisi.it/wp-content/uploads/2016/02/vela-1.jpg
ORGANIZER;CN="Altura Scuola di Vela e di Mare":MAILTO:info@alturavela.it
END:VEVENT
BEGIN:VEVENT
DTSTART;TZID=Europe/Rome:20160527T180000
DTEND;TZID=Europe/Rome:20160529T180000
DTSTAMP:20260424T090228
CREATED:20160427T070733Z
LAST-MODIFIED:20160508T125735Z
UID:703-1464372000-1464544800@www.alumni.unisi.it
SUMMARY:Play with US - Veleggiata Arcipelago Toscano
DESCRIPTION:Unisciti agli Alumni per veleggiare nell’Arcipelago Toscano : \nun fine settimana di vela\, di mare e di Network verso il futuro! \n28- 29  Maggio 2016 \n \nPosti limitati ! Prenotati entro il 8 Maggio \nProgramma \nImbarco il venerdi sera a Cala Galera. Partenza la mattina successiva per navigare alla volta delle bellissime isole del Giglio e di Giannutri\, per trascorrere due rilassanti giornate di sole e di mare nelle cale della Caldana\, delle Cannelle e del Campese all’isola del Giglio\, senza dimenticare il caratteristico porto. Ci trasferiremo poi a Giannutri\, dove visiteremo la cala dello Spalmatoio\, la Maestra e la Brigantina. \nLo sbarco è previsto la domenica sera. \nE’ prevista sia attività didattica che attività ludica. \nImbarco: Marina di Cala Galera\, venerdì 27 Maggio dalle ore 18\,00 \nSbarco : Marina di Cala Galera\, domenica 29 Maggio ore 18\,00 (circa) \n  \nQuota di partecipazione: 130 Euro  a persona + quota cambusa\, carburante\, spese portuali. \nLa quota va versata via bonifico bancario ad Altura scuola di vela e di mare (dettagli via email). \n  \nImbarcazioni : Beneteau Ciclades 43.4 (2007-2008) \n4 cabine doppie/2 bagni
URL:https://www.alumni.unisi.it/event/play-with-us-veleggiata-arcipelago-toscano/
CATEGORIES:Play with US
ATTACH;FMTTYPE=image/jpeg:https://www.alumni.unisi.it/wp-content/uploads/2016/02/vela-1.jpg
ORGANIZER;CN="USiena Alumni":MAILTO:info@alumni.unisi.it
END:VEVENT
BEGIN:VEVENT
DTSTART;TZID=Europe/Rome:20160502T080000
DTEND;TZID=Europe/Rome:20160525T170000
DTSTAMP:20260424T090228
CREATED:20160428T094355Z
LAST-MODIFIED:20160508T125146Z
UID:712-1462176000-1464195600@www.alumni.unisi.it
SUMMARY:Play with US - Concorso Fotografico-Letterario
DESCRIPTION:  \nScatta lo scaffale – concorso fotografico letterario | Sistema Bibliotecario di Ateneo \n­\n  \n\n\n\n\n\n\n\n\nCONCORSO FOTOGRAFICO-LETTERARIO \n“SCATTA LO SCAFFALE. ISTANTANEE NARRATIVE”\n2-25 maggio 2016\nIl Sistema Bibliotecario di Ateneo\, nell’ambito del progetto di Servizio Civile Nazionale “Biblionarrando: comunicazione efficace in biblioteca” propone il concorso fotografico-letterario “Scatta lo scaffale. Istantanee narrative” con la finalità di promuovere la conoscenza dei servizi bibliotecari dell’Università di Siena e in particolare della nuova piattaforma OneSearch\, attiva anche a livello regionale per una ricerca integrata nei cataloghi di tutti gli atenei toscani. \nIl soggetto del concorso è il “tuo scaffale ideale” all’interno del quale possono essere presenti testi di studio\, ma anche libri di vario tipo o altri oggetti\, per richiamare così metaforicamente la funzione “vicini sullo scaffale” di Onesearch.\nScatta una fotografia del tuo scaffale\, corredata da un testo che ne costituisca la didascalia ed invialo a: concorso.sba@gmail.com dal  2 al 25 maggio 2016. \nGli elaborati verranno pubblicati in forma anonima dal giorno 30/05/2016 al giorno 8/06/2016 sulla pagina Facebook del Sistema Bibliotecario di Ateneo – Università di Siena \nhttps://www.facebook.com/coordinamento.sba.unisi.it\, e potranno essere votati. \nI 10 elaborati che riceveranno più “Mi piace” saranno valutati da una giuria composita e potranno vincere la partecipazione gratuita ad un corso di fotografia\, buoni acquisto da spendere in libreria\, libri fotografici\, e altro ancora.\nPer tutte le informazioni\, consulta il bando in fondo alla pagina.\nPer ulteriori chiarimenti contattaci all’indirizzo: concorso@sba.unisi.it \nI volontari del Servizio Civile Nazionale “Biblionarrando: comunicazione efficace in biblioteca” che hanno collaborato all’organizzazione del concorso sono:\nAlessandro Carabia\, Antonella Torre\, Ambra Rotolo\, Caterina Lupi\, Clarissa Machetti\, Cristina Araldi\, Eliana Di Dieco\, Fabrizio Denaro\, Ilaria Conte\, Laura Modafferi\, Mariangela Faso\, Marina Mian\, Monica Alba\, Priscilla Fellin\, Umberto Rossolini\, Valeria Innocenti Minuti\, Vincenzo Bua. \n\nPer info http://www.sba.unisi.it/home/progetti/scatta-lo-scaffale-concorso-fotografico-letterario
URL:https://www.alumni.unisi.it/event/play-with-us-concorso-fotografico-letterario/
CATEGORIES:Play with US
ATTACH;FMTTYPE=image/jpeg:https://www.alumni.unisi.it/wp-content/uploads/concorso-letterario.jpg
ORGANIZER;CN="Sistema Bibliotecario d'Ateneo":MAILTO:concorso.sba@gmail.com 
END:VEVENT
BEGIN:VEVENT
DTSTART;VALUE=DATE:20151010
DTEND;VALUE=DATE:20151012
DTSTAMP:20260424T090228
CREATED:20160205T232731Z
LAST-MODIFIED:20160205T232731Z
UID:482-1444435200-1444607999@www.alumni.unisi.it
SUMMARY:Veleggiata Arcipelago Toscano
DESCRIPTION:Veleggiata Arcipelago Toscano\n10/11 Ottobre 2015\nUnisciti agli Alumni per veleggiare nell’Arcipelago Toscano: un fine settimana di vela\, di mare e di Network verso il futuro! 10 e 11 Ottobre 2015 Posti limitati ! Prenotati entro il 14 settembre \nProgramma \nImbarco il venerdi sera a Cala Galera. Partenza la mattina successiva per navigare alla volta delle bellissime isole del Giglio e di Giannutri\, per trascorrere due rilassanti giornate di sole e di mare nelle cale della Caldana\, delle Cannelle e del Campese all’isola del Giglio\, senza dimenticare il caratteristico porto. Ci trasferiremo poi a Giannutri\, dove visiteremo la cala dello Spalmatoio\, la Maestra e la Brigantina. Lo sbarco è previsto la domenica sera. \nE’ prevista sia attività didattica che attività ludica. \nImbarco: Marina di Cala Galera\, venerdì 9 Ottobre dalle ore 18\,00\nSbarco : Marina di Cala Galera\, domenica 11 Ottobre ore 17\,00 (circa) \nQuota di partecipazione: 120 Euro a persona + quota cambusa\, carburante\, spese portuali. \nLa quota va versata via bonifico bancario ad Altura scuola di vela e di mare (dettagli via email). \nImbarcazioni:\nBeneteau Ciclades 43.4 (2007-2008)\n4 cabine doppie/2 bagni \nInfo e Prenotazioni entro il 14 Settembre: \nusiena.alumni@unisi.it inserendo un contatto telefonico \nOrganizzato da :\nAltura scuola di vela e di mare\nVia della Pelliccia\, 17 – Roma \n\nHome
URL:https://www.alumni.unisi.it/event/veleggiata-arcipelago-toscano/
CATEGORIES:Play with US
ATTACH;FMTTYPE=image/jpeg:https://www.alumni.unisi.it/wp-content/uploads/2016/02/vela-1.jpg
ORGANIZER;CN="USiena Alumni":MAILTO:info@alumni.unisi.it
END:VEVENT
END:VCALENDAR